BEGIN:VCALENDAR
PRODID:-//AT Content Types//AT Event//EN
VERSION:2.0
METHOD:PUBLISH
BEGIN:VEVENT
DTSTAMP:20260421T190009Z
CREATED:20130418T194353Z
UID:ATEvent-970558a6169c483caa83fd4189a0f670
LAST-MODIFIED:20190619T093324Z
SUMMARY:Vortrag Bernd Nicolai
DTSTART:19970205T171500Z
DTEND:19970205T191500Z
DESCRIPTION:Vortrag Bernd Nicolai: Die Revision der Moderne - Deutsche
  und österreichische Architekten im türkischen Exil
LOCATION:Zentralinstitut für Kunstgeschichte\, Vortragsraum 242\, II. OG\, Katharina-von-Bora-Straße 10\, 80333 München
CATEGORIES:1997
CLASS:PUBLIC
END:VEVENT
END:VCALENDAR
