BEGIN:VCALENDAR
PRODID:-//AT Content Types//AT Event//EN
VERSION:2.0
METHOD:PUBLISH
BEGIN:VEVENT
DTSTAMP:20260422T175314Z
CREATED:20130418T194354Z
UID:ATEvent-68d3b941dea244b2b6dbd9a2d8a0bf68
LAST-MODIFIED:20190619T093410Z
SUMMARY:Vortrag Jean Guillaume
DTSTART:19970507T161500Z
DTEND:19970507T181500Z
DESCRIPTION:Vortrag Jean Guillaume: L’organisation intérieure des g
 randes demeures françaises du XVe au XVIIe siècle
LOCATION:Zentralinstitut für Kunstgeschichte\, Vortragsraum 242\, II. OG\, Katharina-von-Bora-Straße 10\, 80333 München
CATEGORIES:1997
CLASS:PUBLIC
END:VEVENT
END:VCALENDAR
