BEGIN:VCALENDAR
PRODID:-//AT Content Types//AT Event//EN
VERSION:2.0
METHOD:PUBLISH
BEGIN:VEVENT
DTSTAMP:20260426T021650Z
CREATED:20130418T194355Z
UID:ATEvent-c955e40de20a49f8be9dc4001e9e011f
LAST-MODIFIED:20190619T093626Z
SUMMARY:Vortrag Hermann Bauer
DTSTART:19971119T171500Z
DTEND:19971119T191500Z
DESCRIPTION:Vortrag Hermann Bauer: Architektur und Bildausstattung im 
 süddeutschen Rokoko
LOCATION:Zentralinstitut für Kunstgeschichte\, Vortragsraum 242\, II. OG\, Katharina-von-Bora-Straße 10\, 80333 München
CATEGORIES:1997
CLASS:PUBLIC
END:VEVENT
END:VCALENDAR
