BEGIN:VCALENDAR
PRODID:-//AT Content Types//AT Event//EN
VERSION:1.0
BEGIN:VEVENT
DTSTART:19971126T171500Z
DTEND:19971126T191500Z
DCREATED:20130418T194355Z
UID:ATEvent-5016f5c8c8f747afb65aa2de11b77065
SEQUENCE:0
LAST-MODIFIED:20190619T093709Z
SUMMARY:Vortrag Anna Bauer
DESCRIPTION:Vortrag Anna Bauer: Ikonographie der Wieskirche
LOCATION:Zentralinstitut für Kunstgeschichte\, Vortragsraum 242\, II. OG\, Katharina-von-Bora-Straße 10\, 80333 München
PRIORITY:3
TRANSP:0
END:VEVENT
END:VCALENDAR
