BEGIN:VCALENDAR
PRODID:-//AT Content Types//AT Event//EN
VERSION:1.0
BEGIN:VEVENT
DTSTART:19980115T171500Z
DTEND:19980115T191500Z
DCREATED:20130418T194356Z
UID:ATEvent-2a28c888d76741c68accca60891d45f4
SEQUENCE:0
LAST-MODIFIED:20190619T093906Z
SUMMARY:Ausstellungseröffnung "Albert Renger-Patzsch (1897-1966)" mit Festvortrag
DESCRIPTION:Ausstellungseröffnung und Festvortrag Claus Pfingsten: Al
 bert Renger-Patzsch (1897-1966): Leben und Werk
LOCATION:Zentralinstitut für Kunstgeschichte\, Lichthof Nord\, I. OG\, Katharina-von-Bora-Straße 10\, 80333 München
PRIORITY:3
TRANSP:0
END:VEVENT
END:VCALENDAR
