BEGIN:VCALENDAR
PRODID:-//AT Content Types//AT Event//EN
VERSION:1.0
BEGIN:VEVENT
DTSTART:19980121T171500Z
DTEND:19980121T191500Z
DCREATED:20130418T194356Z
UID:ATEvent-f56b3ed720ce4a79addcc762bc5432e6
SEQUENCE:0
LAST-MODIFIED:20190619T093923Z
SUMMARY:Vortrag Helmut Heß
DESCRIPTION:Vortrag Helmut Heß: Der Kunstverlag Franz Hanfstaengl und
  die frühe photographische Kunstreproduktion
LOCATION:Zentralinstitut für Kunstgeschichte\, Vortragsraum 242\, II. OG\, Katharina-von-Bora-Straße 10\, 80333 München
PRIORITY:3
TRANSP:0
END:VEVENT
END:VCALENDAR
