BEGIN:VCALENDAR
PRODID:-//AT Content Types//AT Event//EN
VERSION:2.0
METHOD:PUBLISH
BEGIN:VEVENT
DTSTAMP:20260419T215957Z
CREATED:20130418T194356Z
UID:ATEvent-c2919302126f4b829ac0a4ab7111cb74
LAST-MODIFIED:20190619T094000Z
SUMMARY:Vortrag Reiner Haussherr
DTSTART:19980304T171500Z
DTEND:19980304T191500Z
DESCRIPTION:Vortrag Reiner Haussherr: Altar und Bild: Von den Anfänge
 n bis zum Vorabend der Reformation
LOCATION:Zentralinstitut für Kunstgeschichte\, Vortragsraum 242\, II. OG\, Katharina-von-Bora-Straße 10\, 80333 München
CATEGORIES:1998
CLASS:PUBLIC
END:VEVENT
END:VCALENDAR
