BEGIN:VCALENDAR
PRODID:-//AT Content Types//AT Event//EN
VERSION:1.0
BEGIN:VEVENT
DTSTART:19980527T161500Z
DTEND:19980527T181500Z
DCREATED:20130418T194357Z
UID:ATEvent-0dfbd4fdd702471fa8c74adfc4da3fd0
SEQUENCE:0
LAST-MODIFIED:20190619T094036Z
SUMMARY:Festvortrag Margret Stuffmann
DESCRIPTION:Festvortrag Margret Stuffmann: Konzept und Impression: Zu 
 den französischen Skizzenbüchern des 19. Jahrhunderts (eine gemeinsa
 me Veranstaltung mit dem Freundeskreis des Zentralinstituts für Kunst
 geschichte\, CONIVNCTA FLORESCIT)
LOCATION:Zentralinstitut für Kunstgeschichte\, Vortragsraum 242\, II. OG\, Katharina-von-Bora-Straße 10\, 80333 München
PRIORITY:3
TRANSP:0
END:VEVENT
END:VCALENDAR
