BEGIN:VCALENDAR
PRODID:-//AT Content Types//AT Event//EN
VERSION:2.0
METHOD:PUBLISH
BEGIN:VEVENT
DTSTAMP:20260423T224845Z
CREATED:20130418T194357Z
UID:ATEvent-db6d91b2cf5e4dadb6102720be8a1c9e
LAST-MODIFIED:20190619T094044Z
SUMMARY:Vortrag Michaela Marek
DTSTART:19980610T161500Z
DTEND:19980610T181500Z
DESCRIPTION:Vortrag Michaela Marek: Architektur als Instrument nationa
 ler Politik: Das Beispiel Böhmen im 19. Jahrhundert
LOCATION:Zentralinstitut für Kunstgeschichte\, Vortragsraum 242\, II. OG\, Katharina-von-Bora-Straße 10\, 80333 München
CATEGORIES:1998
CLASS:PUBLIC
END:VEVENT
END:VCALENDAR
