BEGIN:VCALENDAR
PRODID:-//AT Content Types//AT Event//EN
VERSION:1.0
BEGIN:VEVENT
DTSTART:19980617T161500Z
DTEND:19980617T181500Z
DCREATED:20130418T194357Z
UID:ATEvent-84ea12f397fe4e0d91561050eec4ff97
SEQUENCE:0
LAST-MODIFIED:20190619T094051Z
SUMMARY:Vortrag Heidrun Laudel
DESCRIPTION:Vortrag Heidrun Laudel: Sempers Suche nach den „ursprün
 glichen Gebilden" in der Baukunst
LOCATION:Zentralinstitut für Kunstgeschichte\, Vortragsraum 242\, II. OG\, Katharina-von-Bora-Straße 10\, 80333 München
PRIORITY:3
TRANSP:0
END:VEVENT
END:VCALENDAR
