BEGIN:VCALENDAR
PRODID:-//AT Content Types//AT Event//EN
VERSION:1.0
BEGIN:VEVENT
DTSTART:19980624T161500Z
DTEND:19980624T181500Z
DCREATED:20130418T194357Z
UID:ATEvent-fb51f402510b490a9c7f5dd8979a5830
SEQUENCE:0
LAST-MODIFIED:20190619T094059Z
SUMMARY:Vortrag Mieke Bal
DESCRIPTION:Vortrag Mieke Bal: Pre-posterous history: Caravaggio influ
 enced by Lili Dujourie (Veranstaltet gemeinsam mit dem Kunstverein Mü
 nchen aus Anlaß der Ausstellung „Lili Dujourie - frühe Werke. 1969
 -1983" (16.6.-9.8.1998))
LOCATION:Zentralinstitut für Kunstgeschichte\, Vortragsraum 242\, II. OG\, Katharina-von-Bora-Straße 10\, 80333 München
PRIORITY:3
TRANSP:0
END:VEVENT
END:VCALENDAR
