BEGIN:VCALENDAR
PRODID:-//AT Content Types//AT Event//EN
VERSION:2.0
METHOD:PUBLISH
BEGIN:VEVENT
DTSTAMP:20260426T032728Z
CREATED:20130418T194357Z
UID:ATEvent-85ab1eed67e44b22ba6364fbb5947185
LAST-MODIFIED:20190619T094107Z
SUMMARY:Vortrag Klaus Jan Philipp
DTSTART:19980701T161500Z
DTEND:19980701T181500Z
DESCRIPTION:Vortrag Klaus Jan Philipp: Geschichte versus Typologie: Ko
 nzepte der Architekturgeschichte im frühen Historismus
LOCATION:Zentralinstitut für Kunstgeschichte\, Vortragsraum 242\, II. OG\, Katharina-von-Bora-Straße 10\, 80333 München
CATEGORIES:1998
CLASS:PUBLIC
END:VEVENT
END:VCALENDAR
