BEGIN:VCALENDAR
PRODID:-//AT Content Types//AT Event//EN
VERSION:2.0
METHOD:PUBLISH
BEGIN:VEVENT
DTSTAMP:20260426T021737Z
CREATED:20130418T194358Z
UID:ATEvent-e668cfe80ead4ee099d9a098f0cf1e11
LAST-MODIFIED:20190619T094211Z
SUMMARY:Ausstellungseröffnung: Mies van der Rohes Haus Tugendhat
DTSTART:19981002T160000Z
DTEND:19981002T170000Z
DESCRIPTION:Ausstellungseröffnung: Im Brennpunkt der Moderne - Mies v
 an der Rohes Haus Tugendhat
LOCATION:Zentralinstitut für Kunstgeschichte\, Lichthof Nord\, I. OG\, Katharina-von-Bora-Straße 10\, 80333 München
CATEGORIES:1998
CLASS:PUBLIC
END:VEVENT
END:VCALENDAR
