BEGIN:VCALENDAR
PRODID:-//AT Content Types//AT Event//EN
VERSION:2.0
METHOD:PUBLISH
BEGIN:VEVENT
DTSTAMP:20260420T034535Z
CREATED:20130418T194358Z
UID:ATEvent-22a360b8474e4275b93764c8c161485a
LAST-MODIFIED:20190619T094227Z
SUMMARY:Vortrag Winfried Nerdinger
DTSTART:19981007T161500Z
DTEND:19981007T181500Z
DESCRIPTION:Vortrag Winfried Nerdinger: Rationalisierung zum Existenzm
 inimum: Wege und Irrwege des Neuen Bauens
LOCATION:Zentralinstitut für Kunstgeschichte\, Vortragsraum 242\, II. OG\, Katharina-von-Bora-Straße 10\, 80333 München
CATEGORIES:1998
CLASS:PUBLIC
END:VEVENT
END:VCALENDAR
