BEGIN:VCALENDAR
PRODID:-//AT Content Types//AT Event//EN
VERSION:1.0
BEGIN:VEVENT
DTSTART:19981111T171500Z
DTEND:19981111T191500Z
DCREATED:20130418T194358Z
UID:ATEvent-7d3afabe7f014581bf72bb36d6790398
SEQUENCE:0
LAST-MODIFIED:20190619T094252Z
SUMMARY:Vortrag Bernd Wolfgang Lindemann
DESCRIPTION:Vortrag Bernd Wolfgang Lindemann: Sandrart beim Wort genom
 men: Holbein und Caravaggio
LOCATION:Zentralinstitut für Kunstgeschichte\, Vortragsraum 242\, II. OG\, Katharina-von-Bora-Straße 10\, 80333 München
PRIORITY:3
TRANSP:0
END:VEVENT
END:VCALENDAR
