BEGIN:VCALENDAR
PRODID:-//AT Content Types//AT Event//EN
VERSION:2.0
METHOD:PUBLISH
BEGIN:VEVENT
DTSTAMP:20260422T034638Z
CREATED:20130418T194359Z
UID:ATEvent-44540985bf5c483e8aa84cf9220e354a
LAST-MODIFIED:20190619T094329Z
SUMMARY:Vortrag Willibald Sauerländer
DTSTART:19981202T171500Z
DTEND:19981202T191500Z
DESCRIPTION:Vortrag Willibald Sauerländer: "A Connecticut Yankee in K
 ing Arthur's Court" (Mark Twain) - Mittelalterliche Kunst in Amerika
LOCATION:Zentralinstitut für Kunstgeschichte\, Vortragsraum 242\, II. OG\, Katharina-von-Bora-Straße 10\, 80333 München
CATEGORIES:1998
CLASS:PUBLIC
END:VEVENT
END:VCALENDAR
