BEGIN:VCALENDAR
PRODID:-//AT Content Types//AT Event//EN
VERSION:1.0
BEGIN:VEVENT
DTSTART:19990120T171500Z
DTEND:19990120T191500Z
DCREATED:20130418T194359Z
UID:ATEvent-77ff470c015f4624baab23f3e4748fa6
SEQUENCE:0
LAST-MODIFIED:20190619T094508Z
SUMMARY:Vortrag Thomas Eser
DESCRIPTION:Vortrag Thomas Eser: "Vil schöner Pild hab ich geschnitte
 n/Künstlich auf welsch und deutschen Sitten": Italianismus als Stilkr
 iterium für die deutsche Skulptur zwischen 1500 und 1550
LOCATION:Zentralinstitut für Kunstgeschichte\, Vortragsraum 242\, II. OG\, Katharina-von-Bora-Straße 10\, 80333 München
PRIORITY:3
TRANSP:0
END:VEVENT
END:VCALENDAR
