BEGIN:VCALENDAR
PRODID:-//AT Content Types//AT Event//EN
VERSION:2.0
METHOD:PUBLISH
BEGIN:VEVENT
DTSTAMP:20260425T023415Z
CREATED:20130418T194400Z
UID:ATEvent-c68290cca87d4182835418bff7a310a6
LAST-MODIFIED:20190619T094535Z
SUMMARY:Vortrag Sebastian Schütze
DTSTART:19990224T171500Z
DTEND:19990224T191500Z
DESCRIPTION:Vortrag Sebastian Schütze: "(...) liberar questo secolo d
 all'invidiare gli antichi" - Bernini und die Ästhetik der moderni
LOCATION:Zentralinstitut für Kunstgeschichte\, Vortragsraum 242\, II. OG\, Katharina-von-Bora-Straße 10\, 80333 München
CATEGORIES:1999
CLASS:PUBLIC
END:VEVENT
END:VCALENDAR
