BEGIN:VCALENDAR
PRODID:-//AT Content Types//AT Event//EN
VERSION:1.0
BEGIN:VEVENT
DTSTART:19990512T161500Z
DTEND:19990512T181500Z
DCREATED:20130418T194400Z
UID:ATEvent-e35b04705f034845aef58465cdd4115b
SEQUENCE:0
LAST-MODIFIED:20190619T094556Z
SUMMARY:Vortrag Uwe Fleckner
DESCRIPTION:Vortrag Uwe Fleckner: Et moi aussi je suis peintre. Pierre
  Reverdy\, Guillaume Apollinaire\, Carl Einstein und die kubistische K
 unstkritik
LOCATION:Zentralinstitut für Kunstgeschichte\, Vortragsraum 242\, II. OG\, Katharina-von-Bora-Straße 10\, 80333 München
PRIORITY:3
TRANSP:0
END:VEVENT
END:VCALENDAR
