BEGIN:VCALENDAR
PRODID:-//AT Content Types//AT Event//EN
VERSION:1.0
BEGIN:VEVENT
DTSTART:19991027T161500Z
DTEND:19991027T181500Z
DCREATED:20130418T194401Z
UID:ATEvent-0a1827183a11470e9e8bbac63850f003
SEQUENCE:0
LAST-MODIFIED:20190619T094711Z
SUMMARY:Vortrag Robert Thorne
DESCRIPTION:Vortrag Robert Thorne: Industrial Architecture in 19th cen
 tury Britain
LOCATION:Zentralinstitut für Kunstgeschichte\, Vortragsraum 242\, II. OG\, Katharina-von-Bora-Straße 10\, 80333 München
PRIORITY:3
TRANSP:0
END:VEVENT
END:VCALENDAR
