BEGIN:VCALENDAR
PRODID:-//AT Content Types//AT Event//EN
VERSION:2.0
METHOD:PUBLISH
BEGIN:VEVENT
DTSTAMP:20260422T194346Z
CREATED:20130418T194401Z
UID:ATEvent-b33da9acc2d04804b5ab17539a9f1d68
LAST-MODIFIED:20190619T094740Z
SUMMARY:Vortrag Tilo Richter
DTSTART:19991110T171500Z
DTEND:19991110T191500Z
DESCRIPTION:Vortrag Tilo Richter: Historische Industriearchitektur in 
 Sachsen 1800-1935 - Architektur\, Industriegeschichte und Denkmalpfleg
 e am\nBeispiel herausragender Bauten und aktueller Umnutzungen
LOCATION:Zentralinstitut für Kunstgeschichte\, Vortragsraum 242\, II. OG\, Katharina-von-Bora-Straße 10\, 80333 München
CATEGORIES:1999
CLASS:PUBLIC
END:VEVENT
END:VCALENDAR
