BEGIN:VCALENDAR
PRODID:-//AT Content Types//AT Event//EN
VERSION:2.0
METHOD:PUBLISH
BEGIN:VEVENT
DTSTAMP:20260420T083747Z
CREATED:20130418T194401Z
UID:ATEvent-c0549ad39de24e75a938bacce9775842
LAST-MODIFIED:20190619T094747Z
SUMMARY:Vortrag Jan von Bonsdorff
DTSTART:19991117T171500Z
DTEND:19991117T191500Z
DESCRIPTION:Vortrag Jan von Bonsdorff: Nationale oder subjektive Selbs
 tverwirklichung? Skandinavische Maler in München 1870 bis 1888
LOCATION:Zentralinstitut für Kunstgeschichte\, Vortragsraum 242\, II. OG\, Katharina-von-Bora-Straße 10\, 80333 München
CATEGORIES:1999
CLASS:PUBLIC
END:VEVENT
END:VCALENDAR
