BEGIN:VCALENDAR
PRODID:-//AT Content Types//AT Event//EN
VERSION:2.0
METHOD:PUBLISH
BEGIN:VEVENT
DTSTAMP:20260419T235240Z
CREATED:20130418T194404Z
UID:ATEvent-f541ae435d3741678359c74ebeb8df03
LAST-MODIFIED:20190619T094807Z
SUMMARY:Verleihung des Werner-Hauger-Stipendiums
DTSTART:19991201T180000Z
DTEND:19991201T181500Z
DESCRIPTION:Verleihung des Werner-Hauger-Stipendiums an Uta-Christiane
  Bergemann\, M.A.\, für ihr Forschungsprojekt über die Entstehung un
 d gesellschaftliche Bedeutung Berliner Stickereien des Biedermeiers
LOCATION:Zentralinstitut für Kunstgeschichte\, Vortragsraum 242\, II. OG\, Katharina-von-Bora-Straße 10\, 80333 München
CATEGORIES:1999
CLASS:PUBLIC
END:VEVENT
END:VCALENDAR
