BEGIN:VCALENDAR
PRODID:-//AT Content Types//AT Event//EN
VERSION:2.0
METHOD:PUBLISH
BEGIN:VEVENT
DTSTAMP:20260426T021841Z
CREATED:20130418T194404Z
UID:ATEvent-8edb5d05dcf74181b718532259576715
LAST-MODIFIED:20190619T094813Z
SUMMARY:Festvortrag Georg Himmelheber
DTSTART:19991201T181500Z
DTEND:19991201T201500Z
DESCRIPTION:Festvortrag Georg Himmelheber: Das deutsche Zimmer
LOCATION:Zentralinstitut für Kunstgeschichte\, Vortragsraum 242\, II. OG\, Katharina-von-Bora-Straße 10\, 80333 München
CATEGORIES:1999
CLASS:PUBLIC
END:VEVENT
END:VCALENDAR
