BEGIN:VCALENDAR
PRODID:-//AT Content Types//AT Event//EN
VERSION:2.0
METHOD:PUBLISH
BEGIN:VEVENT
DTSTAMP:20260421T094329Z
CREATED:20130418T194404Z
UID:ATEvent-b2a4465f01c949da81b2906eaa70d8e8
LAST-MODIFIED:20190619T094820Z
SUMMARY:Vortrag Lucia Hagendorf-Nußbaum
DTSTART:19991208T171500Z
DTEND:19991208T191500Z
DESCRIPTION:Vortrag Lucia Hagendorf-Nußbaum: Normannische Kuppelkirch
 en des 12. Jahrhunderts im westlichen Sizilien
LOCATION:Zentralinstitut für Kunstgeschichte\, Vortragsraum 242\, II. OG\, Katharina-von-Bora-Straße 10\, 80333 München
CATEGORIES:1999
CLASS:PUBLIC
END:VEVENT
END:VCALENDAR
