BEGIN:VCALENDAR
PRODID:-//AT Content Types//AT Event//EN
VERSION:2.0
METHOD:PUBLISH
BEGIN:VEVENT
DTSTAMP:20260421T152620Z
CREATED:20130418T194404Z
UID:ATEvent-f436cd4db136466280ca5fe1c5dfbd8f
LAST-MODIFIED:20190619T095008Z
SUMMARY:Vortrag Tilmann Buddensieg
DTSTART:20000112T171500Z
DTEND:20000112T191500Z
DESCRIPTION:Vortrag Tilmann Buddensieg: "leere Form" und "großer Stil
 " - Nietzsche und die italienische Baukunst
LOCATION:Zentralinstitut für Kunstgeschichte\, Vortragsraum 242\, II. OG\, Katharina-von-Bora-Straße 10\, 80333 München
CATEGORIES:2000
CLASS:PUBLIC
END:VEVENT
END:VCALENDAR
