BEGIN:VCALENDAR
PRODID:-//AT Content Types//AT Event//EN
VERSION:2.0
METHOD:PUBLISH
BEGIN:VEVENT
DTSTAMP:20260424T225302Z
CREATED:20130418T194405Z
UID:ATEvent-81b25ab2e2f646ab84f0079554afbe9a
LAST-MODIFIED:20190619T095108Z
SUMMARY:Ausstellungseröffnung "Carl Teufel"
DTSTART:20000524T181500Z
DTEND:20000524T191500Z
DESCRIPTION:Ausstellungseröffnung von Helmut Heß: "Salon\, Boudoir o
 der Malstube. Carl Teufels Münchner Atelierfotografie"
LOCATION:Zentralinstitut für Kunstgeschichte\, Lichthof Nord\, I. OG\, Katharina-von-Bora-Straße 10\, 80333 München
CATEGORIES:2000
CLASS:PUBLIC
END:VEVENT
END:VCALENDAR
