BEGIN:VCALENDAR
PRODID:-//AT Content Types//AT Event//EN
VERSION:2.0
METHOD:PUBLISH
BEGIN:VEVENT
DTSTAMP:20260422T114441Z
CREATED:20130418T194405Z
UID:ATEvent-e37ce57f67b04f8383c80c45a428ab53
LAST-MODIFIED:20190619T095122Z
SUMMARY:Festvortrag Andrew C. Robison
DTSTART:20000602T161500Z
DTEND:20000602T181500Z
DESCRIPTION:Festvortrag Andrew C. Robison: What is German in German dr
 awings? (Eine gemeinsame Veranstaltung mit dem Freundeskreis des Zentr
 alinstituts für Kunstgeschichte\, CONIVNCTA FLORESCIT)
LOCATION:Zentralinstitut für Kunstgeschichte\, Vortragsraum 242\, II. OG\, Katharina-von-Bora-Straße 10\, 80333 München
CATEGORIES:2000
CLASS:PUBLIC
END:VEVENT
END:VCALENDAR
