BEGIN:VCALENDAR
PRODID:-//AT Content Types//AT Event//EN
VERSION:2.0
METHOD:PUBLISH
BEGIN:VEVENT
DTSTAMP:20260421T091806Z
CREATED:20130418T194406Z
UID:ATEvent-7aa32ec5323d4b4a8fcecf13b2f2fe26
LAST-MODIFIED:20190619T095143Z
SUMMARY:Vortrag Gertrud Koch
DTSTART:20000705T161500Z
DTEND:20000705T181500Z
DESCRIPTION:Vortrag Gertrud Koch: "Dinge gibt es\, die gibt es gar nic
 ht." Zur Aufführung der Objekte in Film und anderen Künsten
LOCATION:Zentralinstitut für Kunstgeschichte\, Vortragsraum 242\, II. OG\, Katharina-von-Bora-Straße 10\, 80333 München
CATEGORIES:2000
CLASS:PUBLIC
END:VEVENT
END:VCALENDAR
