BEGIN:VCALENDAR
PRODID:-//AT Content Types//AT Event//EN
VERSION:1.0
BEGIN:VEVENT
DTSTART:20000911T160000Z
DTEND:20000911T190000Z
DCREATED:20130418T194406Z
UID:ATEvent-9269a280f5e54ef2a32d50eec601640b
SEQUENCE:0
LAST-MODIFIED:20190619T095229Z
SUMMARY:Diskussionsforum "Reisen zur Kunst - Kunst auf Reisen"
DESCRIPTION:Diskussionsforum im Rahmen der Sommerakademie "Reisen zur 
 Kunst - Kunst auf Reisen: Kunstausstellungen heute und morgen". Teilne
 hmer: Andreas Burmester\, Walter Grasskamp
LOCATION:Zentralinstitut für Kunstgeschichte\, Vortragsraum 242\, II. OG\, Katharina-von-Bora-Straße 10\, 80333 München
PRIORITY:3
TRANSP:0
END:VEVENT
END:VCALENDAR
