BEGIN:VCALENDAR
PRODID:-//AT Content Types//AT Event//EN
VERSION:2.0
METHOD:PUBLISH
BEGIN:VEVENT
DTSTAMP:20260420T055430Z
CREATED:20130418T194408Z
UID:ATEvent-531a583faef2411bb8e4fff2f9e13653
LAST-MODIFIED:20190619T095330Z
SUMMARY:Vortrag Michael F. Zimmermann
DTSTART:20000920T161500Z
DTEND:20000920T181500Z
DESCRIPTION:Vortrag Michael F. Zimmermann: Pellizzas "Vierter Stand"\,
  1890-1902: Eine politische Ikone des Fortschritts
LOCATION:Zentralinstitut für Kunstgeschichte\, Vortragsraum 242\, II. OG\, Katharina-von-Bora-Straße 10\, 80333 München
CATEGORIES:2000
CLASS:PUBLIC
END:VEVENT
END:VCALENDAR
