BEGIN:VCALENDAR
PRODID:-//AT Content Types//AT Event//EN
VERSION:2.0
METHOD:PUBLISH
BEGIN:VEVENT
DTSTAMP:20260420T101106Z
CREATED:20130418T194408Z
UID:ATEvent-b6f58174e2654ead8a03d14ca8f779d9
LAST-MODIFIED:20190619T095336Z
SUMMARY:Vortrag Robert Rosenblum
DTSTART:20000927T161500Z
DTEND:20000927T181500Z
DESCRIPTION:Vortrag Robert Rosenblum: The Art of Reincarnation: Picass
 o and Old-Master Portraiture
LOCATION:Zentralinstitut für Kunstgeschichte\, Vortragsraum 242\, II. OG\, Katharina-von-Bora-Straße 10\, 80333 München
CATEGORIES:2000
CLASS:PUBLIC
END:VEVENT
END:VCALENDAR
