BEGIN:VCALENDAR
PRODID:-//AT Content Types//AT Event//EN
VERSION:1.0
BEGIN:VEVENT
DTSTART:20001014T120000Z
DTEND:20001014T150000Z
DCREATED:20130418T194408Z
UID:ATEvent-31dfbc165f0c4e7ab26a5cd10fc12891
SEQUENCE:0
LAST-MODIFIED:20190619T095351Z
SUMMARY:Diskussionsforum München als Museumsstadt
DESCRIPTION:Diskussionsforum im Rahmen der Sommerakademie "München al
 s Museumsstadt" unter der Leitung von Reinhold Baumstark. Teilnehmer: 
 Renate Eikelmann\, Gerhard Hojer\, Wolfgang Till\, Raimund Wünsche
LOCATION:Zentralinstitut für Kunstgeschichte\, Lesesaal der Bibliothek\, Katharina-von-Bora-Straße 10\, 80333 München
PRIORITY:3
TRANSP:0
END:VEVENT
END:VCALENDAR
