BEGIN:VCALENDAR
PRODID:-//AT Content Types//AT Event//EN
VERSION:1.0
BEGIN:VEVENT
DTSTART:20001122T170000Z
DTEND:20001122T171500Z
DCREATED:20130418T194409Z
UID:ATEvent-df9ad01c3c254dce96406bae3fe078a0
SEQUENCE:0
LAST-MODIFIED:20190619T095424Z
SUMMARY:Verleihung des Werner-Hauger-Stipendiums
DESCRIPTION:Verleihung des Werner-Hauger-Stipendiums
LOCATION:Zentralinstitut für Kunstgeschichte\, Vortragsraum 242\, II. OG\, Katharina-von-Bora-Straße 10\, 80333 München
PRIORITY:3
TRANSP:0
END:VEVENT
END:VCALENDAR
