BEGIN:VCALENDAR
PRODID:-//AT Content Types//AT Event//EN
VERSION:2.0
METHOD:PUBLISH
BEGIN:VEVENT
DTSTAMP:20260423T020753Z
CREATED:20130418T194409Z
UID:ATEvent-4a7fc2b6300145489c10932f3aacd8f7
LAST-MODIFIED:20190619T095431Z
SUMMARY:Festvortrag Carsten-Peter Warncke
DTSTART:20001122T171500Z
DTEND:20001122T191500Z
DESCRIPTION:Festvortrag Carsten-Peter Warncke: Cellinis "Saliera" - De
 r Triumph des Goldschmieds
LOCATION:Zentralinstitut für Kunstgeschichte\, Vortragsraum 242\, II. OG\, Katharina-von-Bora-Straße 10\, 80333 München
CATEGORIES:2000
CLASS:PUBLIC
END:VEVENT
END:VCALENDAR
