BEGIN:VCALENDAR
PRODID:-//AT Content Types//AT Event//EN
VERSION:2.0
METHOD:PUBLISH
BEGIN:VEVENT
DTSTAMP:20260419T210603Z
CREATED:20130418T194412Z
UID:ATEvent-9f7a420dc4a944e3a80100ff7bc7090e
LAST-MODIFIED:20191025T135328Z
SUMMARY:Vortrag Carlo Ginzburg
DTSTART:20010509T161500Z
DTEND:20010509T181500Z
DESCRIPTION:Vortrag Carlo Ginzburg: "Your Country Needs You" - A Case
  Study in Political Iconography
LOCATION:Zentralinstitut für Kunstgeschichte\, Vortragsraum 242\, II. OG\, Katharina-von-Bora-Straße 10\, 80333 München
CATEGORIES:2001
CLASS:PUBLIC
END:VEVENT
END:VCALENDAR
