BEGIN:VCALENDAR
PRODID:-//AT Content Types//AT Event//EN
VERSION:2.0
METHOD:PUBLISH
BEGIN:VEVENT
DTSTAMP:20260425T232029Z
CREATED:20130418T194412Z
UID:ATEvent-cea7484b4edc433597b18037f6d33486
LAST-MODIFIED:20191025T135348Z
SUMMARY:Vortrag Winfried Nerdinger
DTSTART:20010530T161500Z
DTEND:20010530T181500Z
DESCRIPTION:Ausstellungseröffnung durch Winfried Nerdinger: Klenze un
 d Schinkel - Hoflieferant versus Baugenie? Anschließend Eröffnung de
 r Ausstellung "Karl Friedrich Schinkel - Das architektonische Werk heu
 te. Fotografien von Hillert Ibbeken"
LOCATION:Zentralinstitut für Kunstgeschichte\, Vortragsraum 242\, II. OG\, Katharina-von-Bora-Straße 10\, 80333 München
CATEGORIES:2001
CLASS:PUBLIC
END:VEVENT
END:VCALENDAR
