BEGIN:VCALENDAR
PRODID:-//AT Content Types//AT Event//EN
VERSION:2.0
METHOD:PUBLISH
BEGIN:VEVENT
DTSTAMP:20260421T082615Z
CREATED:20130418T194412Z
UID:ATEvent-e8d1e49a4e0749b29bc446fa3f34ebb1
LAST-MODIFIED:20251103T114427Z
SUMMARY:Ausstellung // Karl Friedrich Schinkel - Das architektonische Werk heute. Fotografien von Hillert Ibbeken
DTSTART:20010530T181500Z
DTEND:20010810T183000Z
LOCATION:Zentralinstitut für Kunstgeschichte\, Lichthof Nord\, I. OG\, Katharina-von-Bora-Straße 10\, 80333 München
CATEGORIES:Objekt und Materialität, 2001, Ausstellung
CLASS:PUBLIC
END:VEVENT
END:VCALENDAR
