BEGIN:VCALENDAR
PRODID:-//AT Content Types//AT Event//EN
VERSION:1.0
BEGIN:VEVENT
DTSTART:20010607T120000Z
DTEND:20010609T110000Z
DCREATED:20130418T194413Z
UID:ATEvent-efa1d1c86fe740d2be06d3610aa2df1a
SEQUENCE:0
LAST-MODIFIED:20251103T114059Z
SUMMARY:Tagung: 200 Jahre Kunstgeschichte in München
DESCRIPTION:Tagung: 200 Jahre Kunstgeschichte in München
LOCATION:Künstlerhaus am Lenbachplatz\, Lenbachplatz 8\, 80333 München
PRIORITY:3
TRANSP:0
END:VEVENT
END:VCALENDAR
