BEGIN:VCALENDAR
PRODID:-//AT Content Types//AT Event//EN
VERSION:2.0
METHOD:PUBLISH
BEGIN:VEVENT
DTSTAMP:20260423T185912Z
CREATED:20130418T194415Z
UID:ATEvent-869876f961c54c529b51e39cd146d603
LAST-MODIFIED:20191025T135506Z
SUMMARY:Verleihung Wolfgang-Ratjen-Preis
DTSTART:20010620T160000Z
DTEND:20010620T161500Z
DESCRIPTION:Vergabe des Wolfgang-Ratjen-Preises 2001 für herausragend
 e Forschungsarbeiten zur Geschichte der graphischen Künste an Annemar
 ie Stefes und Markus Bertsch (Sonderpreis)
LOCATION:Zentralinstitut für Kunstgeschichte\, Vortragsraum 242\, II. OG\, Katharina-von-Bora-Straße 10\, 80333 München
CATEGORIES:2001
CLASS:PUBLIC
END:VEVENT
END:VCALENDAR
