BEGIN:VCALENDAR
PRODID:-//AT Content Types//AT Event//EN
VERSION:1.0
BEGIN:VEVENT
DTSTART:20010620T161500Z
DTEND:20010620T181500Z
DCREATED:20130418T194415Z
UID:ATEvent-cd9dd0afb66c4aa48d8ce9c8921789b0
SEQUENCE:0
LAST-MODIFIED:20191025T135515Z
SUMMARY:Festvortrag Corinna Höper
DESCRIPTION:Festvortrag Corinna Höper: "Launige Erfindungen" - Giovan
 ni Battista Piranesis OPERE VARIE mit der Erstauflage CARCERI von 1750
  (Eine gemeinsame Veranstaltung mit dem Freundeskreis des Zentralinsti
 tuts für Kunstgeschichte\, CONIVNCTA FLORESCIT)
LOCATION:Zentralinstitut für Kunstgeschichte\, Vortragsraum 242\, II. OG\, Katharina-von-Bora-Straße 10\, 80333 München
PRIORITY:3
TRANSP:0
END:VEVENT
END:VCALENDAR
