BEGIN:VCALENDAR
PRODID:-//AT Content Types//AT Event//EN
VERSION:2.0
METHOD:PUBLISH
BEGIN:VEVENT
DTSTAMP:20260421T185843Z
CREATED:20130418T194415Z
UID:ATEvent-22306002e20b477d8b86d4b181f91c57
LAST-MODIFIED:20191025T135523Z
SUMMARY:Vortrag Reinhard Zimmermann
DTSTART:20010627T161500Z
DTEND:20010627T181500Z
DESCRIPTION:Vortrag Reinhard Zimmermann: Wassily Kandinskys Abstraktio
 n und ihre historischen Ursprünge. Zur Problematik der Konstruktion v
 on Kunstgeschichte
LOCATION:Zentralinstitut für Kunstgeschichte\, Vortragsraum 242\, II. OG\, Katharina-von-Bora-Straße 10\, 80333 München
CATEGORIES:2001
CLASS:PUBLIC
END:VEVENT
END:VCALENDAR
