BEGIN:VCALENDAR
PRODID:-//AT Content Types//AT Event//EN
VERSION:2.0
METHOD:PUBLISH
BEGIN:VEVENT
DTSTAMP:20260424T012215Z
CREATED:20130418T194415Z
UID:ATEvent-7eeccf7cef6b4ee28432c0ca40fb0272
LAST-MODIFIED:20191025T135535Z
SUMMARY:Vortrag Gabriele Bickendorf
DTSTART:20010704T161500Z
DTEND:20010704T181500Z
DESCRIPTION:Vortrag Gabriele Bickendorf: Franz Klein - Aaron Siskind. 
 Malerei und Fotografie im abstrakten Expressionismus
LOCATION:Zentralinstitut für Kunstgeschichte\, Vortragsraum 242\, II. OG\, Katharina-von-Bora-Straße 10\, 80333 München
CATEGORIES:2001
CLASS:PUBLIC
END:VEVENT
END:VCALENDAR
