BEGIN:VCALENDAR
PRODID:-//AT Content Types//AT Event//EN
VERSION:1.0
BEGIN:VEVENT
DTSTART:20010718T161500Z
DTEND:20010718T181500Z
DCREATED:20130418T194415Z
UID:ATEvent-0380703f71c54521a8d941e9724d7318
SEQUENCE:0
LAST-MODIFIED:20191025T135632Z
SUMMARY:Vortrag Jakub Sito
DESCRIPTION:Vortrag Jakub Sito: Ein Bayer in Polen - Thomas Hütter un
 d die Skulptur des Spätbarock in Kleinpolen
LOCATION:Zentralinstitut für Kunstgeschichte\, Vortragsraum 242\, II. OG\, Katharina-von-Bora-Straße 10\, 80333 München
PRIORITY:3
TRANSP:0
END:VEVENT
END:VCALENDAR
