BEGIN:VCALENDAR
PRODID:-//AT Content Types//AT Event//EN
VERSION:1.0
BEGIN:VEVENT
DTSTART:20011107T180000Z
DTEND:20011107T181500Z
DCREATED:20130418T194417Z
UID:ATEvent-5e970bd1cab74c589ddf7b105483d94c
SEQUENCE:0
LAST-MODIFIED:20191025T135711Z
SUMMARY:Verleihung des Werner-Hauger-Stipendiums
DESCRIPTION:Preisverleihung des Werner-Hauger-Stipendium an Katrin Sch
 lechte\, Dresden\, für ihre Magisterarbeit Kostüm und Aufführungspr
 axis am Dresdner Hoftheater im 18. Jahrhundert und an Evelin Wetter\, 
 Berlin\, für ihre Dissertation Böhmische Bildstickerei um 1400. Die 
 Stiftungen in Trient\, Brandenburg und Danzig
LOCATION:Zentralinstitut für Kunstgeschichte\, Vortragsraum 242\, II. OG\, Katharina-von-Bora-Straße 10\, 80333 München
PRIORITY:3
TRANSP:0
END:VEVENT
END:VCALENDAR
