BEGIN:VCALENDAR
PRODID:-//AT Content Types//AT Event//EN
VERSION:2.0
METHOD:PUBLISH
BEGIN:VEVENT
DTSTAMP:20260423T045051Z
CREATED:20130418T194418Z
UID:ATEvent-ddd0371b5fc648009b14ad1adb6c7ac8
LAST-MODIFIED:20191025T135722Z
SUMMARY:Festvortrag Samuel Wittwer
DTSTART:20011107T181500Z
DTEND:20011107T201500Z
DESCRIPTION:Festvortrag Samuel Wittwer: Machtanspruch und Festkulisse:
  Das Japanische Palais in Dresden zur Zeit August des Starken und Augu
 st III. (Eine gemeinsame Veranstaltung mit dem Freundeskreis des Zentr
 alinstituts für Kunstgeschichte\, CONIVNCTA FLORESCIT)
LOCATION:Zentralinstitut für Kunstgeschichte\, Vortragsraum 242\, II. OG\, Katharina-von-Bora-Straße 10\, 80333 München
CATEGORIES:2001
CLASS:PUBLIC
END:VEVENT
END:VCALENDAR
