BEGIN:VCALENDAR
PRODID:-//AT Content Types//AT Event//EN
VERSION:2.0
METHOD:PUBLISH
BEGIN:VEVENT
DTSTAMP:20260419T164048Z
CREATED:20130418T194419Z
UID:ATEvent-b5ffc73540ec47b897034952927cb1e7
LAST-MODIFIED:20191025T140626Z
SUMMARY:Verleihung Wolfgang-Ratjen-Preis
DTSTART:20020515T160000Z
DTEND:20020515T161500Z
DESCRIPTION:Vergabe des Wolfgang-Ratjen-Preises für herausragende For
 schungsarbeiten zur Geschichte der graphischen Künste an Ruth Goebel
LOCATION:Zentralinstitut für Kunstgeschichte\, Vortragsraum 242\, II. OG\, Katharina-von-Bora-Straße 10\, 80333 München
CATEGORIES:2002
CLASS:PUBLIC
END:VEVENT
END:VCALENDAR
