BEGIN:VCALENDAR
PRODID:-//AT Content Types//AT Event//EN
VERSION:1.0
BEGIN:VEVENT
DTSTART:20020612T161500Z
DTEND:20020612T181500Z
DCREATED:20130418T194419Z
UID:ATEvent-a92292809b674ec2a819a2ad3809d854
SEQUENCE:0
LAST-MODIFIED:20191025T140641Z
SUMMARY:Vortrag Angela Dolgner
DESCRIPTION:Vortrag Angela Dolgner: Die Kunstschule Burg Giebichenstei
 n in Halle und das Staatliche Bauhaus in Weimar\, Dessau und Berlin - 
 ein Vergleich
LOCATION:Zentralinstitut für Kunstgeschichte\, Vortragsraum 242\, II. OG\, Katharina-von-Bora-Straße 10\, 80333 München
PRIORITY:3
TRANSP:0
END:VEVENT
END:VCALENDAR
