BEGIN:VCALENDAR
PRODID:-//AT Content Types//AT Event//EN
VERSION:2.0
METHOD:PUBLISH
BEGIN:VEVENT
DTSTAMP:20260423T073550Z
CREATED:20130418T194419Z
UID:ATEvent-efc6a0902ed142d79c8c6bb2ca605903
LAST-MODIFIED:20191025T140701Z
SUMMARY:Vortrag Barbara Rommé
DTSTART:20020626T161500Z
DTEND:20020626T181500Z
DESCRIPTION:Vortrag Barbara Rommé: Material und Tradition - Spätgoti
 sche holzsichtige Retabel im deutschsprachigen Südwesten
LOCATION:Zentralinstitut für Kunstgeschichte\, Vortragsraum 242\, II. OG\, Katharina-von-Bora-Straße 10\, 80333 München
CATEGORIES:2002
CLASS:PUBLIC
END:VEVENT
END:VCALENDAR
