BEGIN:VCALENDAR
PRODID:-//AT Content Types//AT Event//EN
VERSION:2.0
METHOD:PUBLISH
BEGIN:VEVENT
DTSTAMP:20260422T154935Z
CREATED:20130418T194420Z
UID:ATEvent-8b8ad2cec1fc43b582a41d72207dbfc3
LAST-MODIFIED:20191025T140718Z
SUMMARY:Vortrag Christoph Luitpold Frommel
DTSTART:20020710T161500Z
DTEND:20020710T181500Z
DESCRIPTION:Vortrag Christoph Luitpold Frommel: Michelangelo\, "Moses"
  und das Juliusgrab
LOCATION:Zentralinstitut für Kunstgeschichte\, Vortragsraum 242\, II. OG\, Katharina-von-Bora-Straße 10\, 80333 München
CATEGORIES:2002
CLASS:PUBLIC
END:VEVENT
END:VCALENDAR
